BEGIN:VCALENDAR
VERSION:2.0
PRODID:-//St. George&#039;s of Forest Hill Anglican Church | Kitchener, Ontario Canada - ECPv6.15.20//NONSGML v1.0//EN
CALSCALE:GREGORIAN
METHOD:PUBLISH
X-WR-CALNAME:St. George&#039;s of Forest Hill Anglican Church | Kitchener, Ontario Canada
X-ORIGINAL-URL:https://www.stgeorgesofforesthill.com
X-WR-CALDESC:Events for St. George&#039;s of Forest Hill Anglican Church | Kitchener, Ontario Canada
REFRESH-INTERVAL;VALUE=DURATION:PT1H
X-Robots-Tag:noindex
X-PUBLISHED-TTL:PT1H
BEGIN:VTIMEZONE
TZID:America/Toronto
BEGIN:DAYLIGHT
TZOFFSETFROM:-0500
TZOFFSETTO:-0400
TZNAME:EDT
DTSTART:20240310T070000
END:DAYLIGHT
BEGIN:STANDARD
TZOFFSETFROM:-0400
TZOFFSETTO:-0500
TZNAME:EST
DTSTART:20241103T060000
END:STANDARD
BEGIN:DAYLIGHT
TZOFFSETFROM:-0500
TZOFFSETTO:-0400
TZNAME:EDT
DTSTART:20250309T070000
END:DAYLIGHT
BEGIN:STANDARD
TZOFFSETFROM:-0400
TZOFFSETTO:-0500
TZNAME:EST
DTSTART:20251102T060000
END:STANDARD
BEGIN:DAYLIGHT
TZOFFSETFROM:-0500
TZOFFSETTO:-0400
TZNAME:EDT
DTSTART:20260308T070000
END:DAYLIGHT
BEGIN:STANDARD
TZOFFSETFROM:-0400
TZOFFSETTO:-0500
TZNAME:EST
DTSTART:20261101T060000
END:STANDARD
END:VTIMEZONE
BEGIN:VEVENT
DTSTART;TZID=America/Toronto:20250307T100000
DTEND;TZID=America/Toronto:20250307T100000
DTSTAMP:20260421T122120
CREATED:20250225T182916Z
LAST-MODIFIED:20250225T183346Z
UID:1226-1741341600-1741341600@www.stgeorgesofforesthill.com
SUMMARY:World Day of Prayer
DESCRIPTION:At Calvin Presbyterian church on Westmount\, Friday March 7th 10:00 am with reception to follow.
URL:https://www.stgeorgesofforesthill.com/calendar/world-day-of-prayer/
CATEGORIES:Special Occations
ATTACH;FMTTYPE=image/jpeg:https://www.stgeorgesofforesthill.com/wp-content/uploads/2025/02/WorldDayOfPrayer.jpg
END:VEVENT
END:VCALENDAR